BEGIN:VCALENDAR
VERSION:2.0
PRODID:-//Indivisible Rapid City - ECPv6.15.20//NONSGML v1.0//EN
CALSCALE:GREGORIAN
METHOD:PUBLISH
X-WR-CALNAME:Indivisible Rapid City
X-ORIGINAL-URL:https://indivisiblerapidcity.org
X-WR-CALDESC:Events for Indivisible Rapid City
REFRESH-INTERVAL;VALUE=DURATION:PT1H
X-Robots-Tag:noindex
X-PUBLISHED-TTL:PT1H
BEGIN:VTIMEZONE
TZID:America/Denver
BEGIN:DAYLIGHT
TZOFFSETFROM:-0700
TZOFFSETTO:-0600
TZNAME:MDT
DTSTART:20240310T090000
END:DAYLIGHT
BEGIN:STANDARD
TZOFFSETFROM:-0600
TZOFFSETTO:-0700
TZNAME:MST
DTSTART:20241103T080000
END:STANDARD
BEGIN:DAYLIGHT
TZOFFSETFROM:-0700
TZOFFSETTO:-0600
TZNAME:MDT
DTSTART:20250309T090000
END:DAYLIGHT
BEGIN:STANDARD
TZOFFSETFROM:-0600
TZOFFSETTO:-0700
TZNAME:MST
DTSTART:20251102T080000
END:STANDARD
BEGIN:DAYLIGHT
TZOFFSETFROM:-0700
TZOFFSETTO:-0600
TZNAME:MDT
DTSTART:20260308T090000
END:DAYLIGHT
BEGIN:STANDARD
TZOFFSETFROM:-0600
TZOFFSETTO:-0700
TZNAME:MST
DTSTART:20261101T080000
END:STANDARD
BEGIN:DAYLIGHT
TZOFFSETFROM:-0700
TZOFFSETTO:-0600
TZNAME:MDT
DTSTART:20270314T090000
END:DAYLIGHT
BEGIN:STANDARD
TZOFFSETFROM:-0600
TZOFFSETTO:-0700
TZNAME:MST
DTSTART:20271107T080000
END:STANDARD
END:VTIMEZONE
BEGIN:VEVENT
DTSTART;TZID=America/Denver:20260404T103000
DTEND;TZID=America/Denver:20260404T120000
DTSTAMP:20260420T042455
CREATED:20260308T063533Z
LAST-MODIFIED:20260410T221230Z
UID:862-1775298600-1775304000@indivisiblerapidcity.org
SUMMARY:IRC Monthly Meeting
DESCRIPTION: 
URL:https://indivisiblerapidcity.org/event/irc-monthly-meeting/
LOCATION:Rapid City Public Library\, 610 Quincy\, R
END:VEVENT
BEGIN:VEVENT
DTSTART;TZID=America/Denver:20260328T120000
DTEND;TZID=America/Denver:20260328T133000
DTSTAMP:20260420T042455
CREATED:20260308T053344Z
LAST-MODIFIED:20260308T053405Z
UID:831-1774699200-1774704600@indivisiblerapidcity.org
SUMMARY:No Kings 3 Rally & Food Drive
DESCRIPTION:Community members are encouraged to attend the rally and bring nonperishable food donations for the One Spirit food drive. \n \n  \n 
URL:https://indivisiblerapidcity.org/event/no-kings-3-rally-food-drive/
LOCATION:City Hall\, 300 6th St\, Rapid City\, SD\, 57701\, United States
END:VEVENT
BEGIN:VEVENT
DTSTART;TZID=America/Denver:20260321T100000
DTEND;TZID=America/Denver:20260321T120000
DTSTAMP:20260420T042455
CREATED:20260308T063352Z
LAST-MODIFIED:20260308T063352Z
UID:860-1774087200-1774094400@indivisiblerapidcity.org
SUMMARY:"No Kings" Poster & Banner Making Event
DESCRIPTION:
URL:https://indivisiblerapidcity.org/event/no-kings-poster-banner-making-event/
LOCATION:Rapid City Public Library\, 610 Quincy\, R
END:VEVENT
BEGIN:VEVENT
DTSTART;TZID=America/Denver:20260314T120000
DTEND;TZID=America/Denver:20260314T130000
DTSTAMP:20260420T042455
CREATED:20260313T180453Z
LAST-MODIFIED:20260313T180453Z
UID:874-1773489600-1773493200@indivisiblerapidcity.org
SUMMARY:Bring Them Home Rally
DESCRIPTION:
URL:https://indivisiblerapidcity.org/event/bring-them-home-rally/
LOCATION:City Hall\, 300 6th St\, Rapid City\, SD\, 57701\, United States
END:VEVENT
BEGIN:VEVENT
DTSTART;TZID=America/Denver:20260307T120000
DTEND;TZID=America/Denver:20260307T130000
DTSTAMP:20260420T042455
CREATED:20260305T171516Z
LAST-MODIFIED:20260307T191516Z
UID:817-1772884800-1772888400@indivisiblerapidcity.org
SUMMARY:Peace Not War Rally
DESCRIPTION:
URL:https://indivisiblerapidcity.org/event/peace-not-war-rally/
LOCATION:City Hall\, 300 6th St\, Rapid City\, SD\, 57701\, United States
END:VEVENT
BEGIN:VEVENT
DTSTART;TZID=America/Denver:20260207T120000
DTEND;TZID=America/Denver:20260207T130000
DTSTAMP:20260420T042455
CREATED:20260204T072527Z
LAST-MODIFIED:20260204T072659Z
UID:667-1770465600-1770469200@indivisiblerapidcity.org
SUMMARY:No Kings Alliance Rally\, Voter Registration & Winter Clothing Drive
DESCRIPTION:Winter Clothing Drive to Benefit Good Medicine Lodge. \nWinter Gear Needed (new or gently used clothing only please): \nCoats\, gloves\, hats\, scarves\, thick socks and hand warmers \n 
URL:https://indivisiblerapidcity.org/event/no-kings-alliance-rally-voter-registration-winter-clothing-drive/
LOCATION:City Hall\, 300 6th St\, Rapid City\, SD\, 57701\, United States
END:VEVENT
BEGIN:VEVENT
DTSTART;TZID=America/Denver:20251025T163000
DTEND;TZID=America/Denver:20251025T180000
DTSTAMP:20260420T042455
CREATED:20250922T163838Z
LAST-MODIFIED:20250922T163838Z
UID:542-1761409800-1761415200@indivisiblerapidcity.org
SUMMARY:South Dakota Voices Community Forum
DESCRIPTION:We’re facing a time of deep uncertainty and rising threats. Our mission is to offer hope\, clarity\, and practical tools to help our communities stay safe\, navigate what’s ahead\, and organize for meaningful resistance. \nOverall Goals of the Forum \n• Elevate community voices impacted by current federal and state policy. \n• Foster public awareness on how this administration’s actions are affecting vulnerable populations. \n• Create a platform for education\, empowerment\, and mobilization. \n• Facilitate coalition-building among progressive leaders\, organizations\, and individuals. \n• Collect feedback and stories from the community to guide future action. \nAudience Engagement Guidelines \n• Keep space safe\, inclusive\, and trauma-informed. \n• Encourage respectful dialogue rooted in curiosity or concern\, not hostility. \n• Provide comment cards or a QR code for anonymous submissions. \n• Invite attendees to share their own stories or testimonials in designated sections. \n• Facilitate breakout moments (if possible) for deeper conversation. \nWhat We Hope to Achieve \n• Document personal stories and public testimony that can be used to advocate for change at the local\, state\, and federal level. \n• Spark renewed political engagement and grassroots energy in the face of apathy or despair. \n• Build and strengthen alliances with tribal leaders\, educators\, healthcare workers\, LGBTQ advocates\, immigrant families\, and more. \n• Equip community members with tangible tools and next steps (resources\, voter info\, protest dates\, mutual aid\, etc.). \n• Pressure local officials and policymakers by showing unified concern and shared values across multiple communities \nWe are asking that each attendee bring a donation for the One Spirit Food Pantry. \nOne Spirit is a non-profit organization dedicated to providing support for the Lakota people of Pine Ridge Reservation in South Dakota. We strive to provide sustainable programs that promote self-sufficiency\, economic development\, and educational opportunities for the Lakota people. Our mission is to fulfill their vision of a self-sufficient and independent future. To help the Oglala Lakota tribe of Native Americans achieve happier\, healthier lives within the context of their remarkable and unique history and culture.  \n 
URL:https://indivisiblerapidcity.org/event/south-dakota-voices-community-forum-2/
LOCATION:South Dakota School of Mines\, 501 E. St. Joe\, Rapid City\, South Dakota\, 57701
END:VEVENT
BEGIN:VEVENT
DTSTART;TZID=America/Denver:20251018T133000
DTEND;TZID=America/Denver:20251018T150000
DTSTAMP:20260420T042455
CREATED:20251002T164655Z
LAST-MODIFIED:20251002T164655Z
UID:652-1760794200-1760799600@indivisiblerapidcity.org
SUMMARY:No Kings II\, Sturgis
DESCRIPTION:Protest with us!
URL:https://indivisiblerapidcity.org/event/no-kings-ii-sturgis/
LOCATION:Lazelle St and 2nd
END:VEVENT
BEGIN:VEVENT
DTSTART;TZID=America/Denver:20251018T110000
DTEND;TZID=America/Denver:20251018T123000
DTSTAMP:20260420T042455
CREATED:20250922T164733Z
LAST-MODIFIED:20250922T164733Z
UID:545-1760785200-1760790600@indivisiblerapidcity.org
SUMMARY:No Kings II
DESCRIPTION:Indivisible Rapid City is proud to co-host this event with 50501 South Dakota! This is a nationwide event. With free speech on the chopping block\, there has never been a more important time to make our voices heard. \nWe are asking that attendees bring a non-perishable food item for Feeding South Dakota. We have donated over 1\,100 pounds of food so far this year!
URL:https://indivisiblerapidcity.org/event/no-kings-ii/
LOCATION:City Hall\, 300 6th St\, Rapid City\, SD\, 57701\, United States
END:VEVENT
BEGIN:VEVENT
DTSTART;TZID=America/Denver:20251018T103000
DTEND;TZID=America/Denver:20251018T120000
DTSTAMP:20260420T042455
CREATED:20251002T164459Z
LAST-MODIFIED:20251002T164459Z
UID:647-1760783400-1760788800@indivisiblerapidcity.org
SUMMARY:No Kings II\, Spearfish
DESCRIPTION:Protest at Junction and Main St
URL:https://indivisiblerapidcity.org/event/no-kings-ii-spearfish/
LOCATION:Junction and Main
END:VEVENT
BEGIN:VEVENT
DTSTART;TZID=America/Denver:20251013T120000
DTEND;TZID=America/Denver:20251013T200000
DTSTAMP:20260420T042455
CREATED:20251002T164131Z
LAST-MODIFIED:20251002T164131Z
UID:641-1760356800-1760385600@indivisiblerapidcity.org
SUMMARY:Indigenous Peoples' Day
DESCRIPTION:NDN Collective will be hosting an Indigenous Peoples’ Day March and FREE Concert in Mni Luzahan\, or downtown Rapid City\, South Dakota.  \nThere will be food and art vendors available throughout the day.  Join us for a day of music\, dance\, delicious food\, traditional artwork\, and good energy. Join us for a day of political education\, cultural celebration\, and community action – building hope and power together for a liberated future. \nWe will start the day with a march beginning at the Bandshell in Memorial Park from 1-2 pm to honor our collective resiliency\, resistance\, and culture.
URL:https://indivisiblerapidcity.org/event/indigenous-peoples-day/
LOCATION:Memorial Park Bandshell\, Rapid City
END:VEVENT
BEGIN:VEVENT
DTSTART;TZID=America/Denver:20250928T090000
DTEND;TZID=America/Denver:20250928T103000
DTSTAMP:20260420T042455
CREATED:20250922T165129Z
LAST-MODIFIED:20250922T165129Z
UID:550-1759050000-1759055400@indivisiblerapidcity.org
SUMMARY:Monthly Meeting
DESCRIPTION:Special guest Nikki Gronli\, 2026 candidate for the U.S. House will be stopping by to introduce herself.
URL:https://indivisiblerapidcity.org/event/monthly-meeting-2/
LOCATION:Rapid City Public Library\, 610 Quincy\, R
END:VEVENT
BEGIN:VEVENT
DTSTART;TZID=America/Denver:20250901T110000
DTEND;TZID=America/Denver:20250901T120000
DTSTAMP:20260420T042455
CREATED:20250814T172133Z
LAST-MODIFIED:20250814T172133Z
UID:511-1756724400-1756728000@indivisiblerapidcity.org
SUMMARY:Workers Deserve Better Labor Day Rally
DESCRIPTION:Workers rights are under attack and we deserve better. Join us September\, noon-1:00 at City Hall\, Rapid City. We ask folks bring a donation for Feeding South Dakota or scan the QR code to donate directly. \nIn 1894\, Labor became a federal holiday to celebrate unions and trade workers. \n\n\n\n\n\nTrump’s impact of workers wages and working conditions \nTerminated the collective bargaining agreement of more than 45\,000 workers TSA employees \nTerminated DOL grants that fight forced and child labor and promote workers’ rights \nLimited federal workers’ collective bargaining agreements \nGutted worker safety agency NIOSH
URL:https://indivisiblerapidcity.org/event/workers-deserve-better-labor-day-rally/
LOCATION:City Hall\, 300 6th St\, Rapid City\, SD\, 57701\, United States
END:VEVENT
BEGIN:VEVENT
DTSTART;TZID=America/Denver:20250830T153000
DTEND;TZID=America/Denver:20250830T173000
DTSTAMP:20260420T042455
CREATED:20250826T144051Z
LAST-MODIFIED:20250826T144051Z
UID:514-1756567800-1756575000@indivisiblerapidcity.org
SUMMARY:Family Fun Picnic
DESCRIPTION:Indivisible Rapid City has had a busy spring and summer\, so to show our appreciation we are throwing a little party at Canyon Lake Park Chimney Shelter\, August 30\, 4:30-6:30. We will be providing pinwheels\, potato salad\, cheese and fruit tray\, chips and drinks. We will have a few games and lots of prizes. If you can\, bring a side dish or a desert. See you there!
URL:https://indivisiblerapidcity.org/event/family-fun-picnic/
LOCATION:SD
END:VEVENT
BEGIN:VEVENT
DTSTART;TZID=America/Denver:20250816T110000
DTEND;TZID=America/Denver:20250816T120000
DTSTAMP:20260420T042455
CREATED:20250814T160145Z
LAST-MODIFIED:20250814T160145Z
UID:493-1755342000-1755345600@indivisiblerapidcity.org
SUMMARY:Stop the Starvation in Gaza
DESCRIPTION:We ask folks to donate to World Central Kitchen if you can by scanning the QR code below. We will also be taking cash donations which we will forward to WCK. \nWCK is first to the frontlines\, providing meals in response to humanitarian\, climate\, and community crises. \n \n\n\n\nStarvation as a weapon is a war crime  \n1.1 million facing catastrophic famine conditions \n16.5% of children facing acute malnutrition \nStop the arms sales \nAt least $17.9 BILLION since October 7 \nStop the genocide \nOver 60\,000 Palestinians have died. \nMany of them children
URL:https://indivisiblerapidcity.org/event/stop-the-starvation-in-gaza/
LOCATION:City Hall\, 300 6th St\, Rapid City\, SD\, 57701\, United States
END:VEVENT
BEGIN:VEVENT
DTSTART;TZID=America/Denver:20250802T090000
DTEND;TZID=America/Denver:20250802T103000
DTSTAMP:20260420T042455
CREATED:20250731T234237Z
LAST-MODIFIED:20250731T234237Z
UID:488-1754125200-1754130600@indivisiblerapidcity.org
SUMMARY:Monthly Meeting
DESCRIPTION:Join us at the Hoyt Room in the Rapid City Public Library. We will be discussing the upcoming Family Fun Night and the next couple rallies.
URL:https://indivisiblerapidcity.org/event/monthly-meeting/
LOCATION:Rapid City Public Library\, 610 Quincy\, R
END:VEVENT
BEGIN:VEVENT
DTSTART;TZID=America/Denver:20250719T163000
DTEND;TZID=America/Denver:20250719T180000
DTSTAMP:20260420T042455
CREATED:20250701T210036Z
LAST-MODIFIED:20250701T210036Z
UID:463-1752942600-1752948000@indivisiblerapidcity.org
SUMMARY:South Dakota Voices Community Forum
DESCRIPTION:Indivisible Rapid City is pleased to present our first major community forum. We want to hear from you\, your stories and concerns about current affairs. We adhere to a certain set of values that includes equality\, protecting vulnerable communities\, and holding our elected officials accountable. \n \nOur moderator is Kayla Klien. \n \nPanelists include Jim Leach\, attorney\, \nNatalie Stites Means\, \n \nVince Vidal\,
URL:https://indivisiblerapidcity.org/event/south-dakota-voices-community-forum/
LOCATION:South Dakota School of Mines Campus
END:VEVENT
BEGIN:VEVENT
DTSTART;TZID=America/Denver:20250717T160000
DTEND;TZID=America/Denver:20250717T173000
DTSTAMP:20260420T042455
CREATED:20250618T150213Z
LAST-MODIFIED:20250618T150213Z
UID:442-1752768000-1752773400@indivisiblerapidcity.org
SUMMARY:Good Trouble Lives On
DESCRIPTION:On the anniversary of the legendary Rep. John Lewis\, we will peacefully protest along with the rest of the nation. \nJohn Lewis was a towering figure in the American civil rights movement and a longtime U.S. congressman who believed in the power of nonviolent protest. He famously urged people to “get in good trouble\, necessary trouble” to stand up against injustice—a phrase that became both a personal mantra and a rallying cry for generations of activists \n \nJohn Lewis’s activism was marked by a series of courageous and history-shaping events: \n\nFreedom Rides (1961): As one of the original 13 Freedom Riders\, Lewis risked his life challenging segregation on interstate buses across the South. He was beaten and arrested multiple times\, but never wavered in his commitment to nonviolence.\nMarch on Washington (1963): At just 23\, Lewis was the youngest speaker at this iconic event. As chairman of the Student Nonviolent Coordinating Committee (SNCC)\, he delivered a fiery speech demanding civil rights and justice.\nBloody Sunday (1965): Perhaps the most searing moment of his activism\, Lewis led over 600 marchers across the Edmund Pettus Bridge in Selma\, Alabama. They were brutally attacked by state troopers—a moment that shocked the nation and helped galvanize support for the Voting Rights Act.
URL:https://indivisiblerapidcity.org/event/good-trouble-lives-on/
LOCATION:City Hall\, 300 6th St\, Rapid City\, SD\, 57701\, United States
END:VEVENT
BEGIN:VEVENT
DTSTART;TZID=America/Denver:20250712T110000
DTEND;TZID=America/Denver:20250712T120000
DTSTAMP:20260420T042455
CREATED:20250701T202805Z
LAST-MODIFIED:20250701T202805Z
UID:456-1752318000-1752321600@indivisiblerapidcity.org
SUMMARY:Shame on you! rally
DESCRIPTION:Our representatives have betrayed the American people. The Big Brutal Bill is vastly unpopular. It has massive cuts to social safety nets while shifting wealth to the richest. It cuts SNAP benefits while adding billions to build concentration camps. Millions will lose health care while adding trillions to the debt.
URL:https://indivisiblerapidcity.org/event/shame-on-you-rally/
LOCATION:City Hall\, 300 6th St\, Rapid City\, SD\, 57701\, United States
END:VEVENT
BEGIN:VEVENT
DTSTART;TZID=America/Denver:20250703T153000
DTEND;TZID=America/Denver:20250703T163000
DTSTAMP:20260420T042455
CREATED:20250701T201950Z
LAST-MODIFIED:20250701T201950Z
UID:448-1751556600-1751560200@indivisiblerapidcity.org
SUMMARY:Freedom Rally
DESCRIPTION:How better to celebrate America’s independence than protesting? Right?
URL:https://indivisiblerapidcity.org/event/freedom-rally/
LOCATION:City Hall\, 300 6th St\, Rapid City\, SD\, 57701\, United States
END:VEVENT
BEGIN:VEVENT
DTSTART;TZID=America/Denver:20250701T170000
DTEND;TZID=America/Denver:20250701T180000
DTSTAMP:20260420T042455
CREATED:20250701T213222Z
LAST-MODIFIED:20250701T213222Z
UID:477-1751389200-1751392800@indivisiblerapidcity.org
SUMMARY:Freedom Rally - 106th Black Hills Roundup
DESCRIPTION:In support of the Belle Fourche pro-Democracy Squad and the Lawrence County Dems\, we will protest with them.
URL:https://indivisiblerapidcity.org/event/freedom-rally-106th-black-hills-roundup/
LOCATION:Butte County Courthouse\, 839 5th Ave\, Belle Fourche
END:VEVENT
BEGIN:VEVENT
DTSTART;TZID=America/Denver:20250622T090000
DTEND;TZID=America/Denver:20250622T103000
DTSTAMP:20260420T042455
CREATED:20250618T151424Z
LAST-MODIFIED:20250618T151424Z
UID:444-1750582800-1750588200@indivisiblerapidcity.org
SUMMARY:Indivisible Monthly meeting
DESCRIPTION:Let’s stay in contact and continue raising our voices.
URL:https://indivisiblerapidcity.org/event/indivisible-monthly-meeting/
LOCATION:SD
END:VEVENT
BEGIN:VEVENT
DTSTART;TZID=America/Denver:20250621T110000
DTEND;TZID=America/Denver:20250621T120000
DTSTAMP:20260420T042455
CREATED:20250618T145757Z
LAST-MODIFIED:20250618T145757Z
UID:438-1750503600-1750507200@indivisiblerapidcity.org
SUMMARY:de-I.C.E. Frozen Hearts Protest
DESCRIPTION:ICE raids are devastating and terrorizing communities across the country. They are deeply harmful\, especially for immigrant communities living in fear of sudden detention or family separation. These operations can disrupt neighborhoods\, undermine trust in public institutions\, and leave lasting emotional and economic scars on those affected. \nWe VALUE our immigrant population. \nSTOP the inhumane deportations! \nProtest with us!
URL:https://indivisiblerapidcity.org/event/de-i-c-e-frozen-hearts-protest/
LOCATION:City Hall\, 300 6th St\, Rapid City\, SD\, 57701\, United States
END:VEVENT
BEGIN:VEVENT
DTSTART;TZID=America/Denver:20250614T110000
DTEND;TZID=America/Denver:20250614T123000
DTSTAMP:20260420T042455
CREATED:20250512T154953Z
LAST-MODIFIED:20250604T161503Z
UID:411-1749898800-1749904200@indivisiblerapidcity.org
SUMMARY:NO KINGS! Feeding SD Food Drive & Nationwide Indivisible Protest
DESCRIPTION:Trump is openly taking bribes and acting like a dictator.  \nWell\, we are here to tell him that America is not for sale. Let’s make this event our largest yet! \nThis event is in cooperations with Feeding South Dakota and Working Against Violence\, Inc. (WAVI) \nPlease donate using the QR codes.
URL:https://indivisiblerapidcity.org/event/no-kings-feeding-sd-food-drive-nationwide-indivisible-protest/
LOCATION:SD
END:VEVENT
BEGIN:VEVENT
DTSTART;TZID=America/Denver:20250607T090000
DTEND;TZID=America/Denver:20250607T100000
DTSTAMP:20260420T042455
CREATED:20250604T160937Z
LAST-MODIFIED:20250604T160937Z
UID:430-1749286800-1749290400@indivisiblerapidcity.org
SUMMARY:2nd Annual Pride Parade
DESCRIPTION:Show your support for the LGBTQ+ community by attending. If you would like to walk with Indivisible Rapid City\, please arrive one hour early\, 4th and Main\, Rapid City
URL:https://indivisiblerapidcity.org/event/2nd-annual-pride-parade/
LOCATION:SD
END:VEVENT
BEGIN:VEVENT
DTSTART;TZID=America/Denver:20250518T110000
DTEND;TZID=America/Denver:20250518T123000
DTSTAMP:20260420T042455
CREATED:20250512T154606Z
LAST-MODIFIED:20250512T154606Z
UID:409-1747566000-1747571400@indivisiblerapidcity.org
SUMMARY:TAX THE RICH! FEED THE POOR
DESCRIPTION:Our commitment to the community is to help fill the void the Trump Republicans are creating with their chainsaw destruction of social safety nets. We collected nearly 600 pounds of food for Feeding South Dakota at the last event and over $3000 for the Humane Society of the Black Hills. \nWe at Indivisible Rapid City thank you all for your continued support and enthusiasm! \nLet’s make this event even bigger!
URL:https://indivisiblerapidcity.org/event/tax-the-rich-feed-the-poor/
LOCATION:SD
END:VEVENT
BEGIN:VEVENT
DTSTART;TZID=America/Denver:20250515T173000
DTEND;TZID=America/Denver:20250515T190000
DTSTAMP:20260420T042455
CREATED:20250506T163503Z
LAST-MODIFIED:20250506T163503Z
UID:401-1747330200-1747335600@indivisiblerapidcity.org
SUMMARY:City Council Candidate Forum
DESCRIPTION:Please join Working Women for a Better World for this City Counsil Candidate Forum
URL:https://indivisiblerapidcity.org/event/city-council-candidate-forum/
LOCATION:Dahl’s Art Center\, 713 7th St\, Rapid City\, SD\, 57701\, United States
END:VEVENT
BEGIN:VEVENT
DTSTART;TZID=America/Denver:20250514T110000
DTEND;TZID=America/Denver:20250514T120000
DTSTAMP:20260420T042455
CREATED:20250512T153933Z
LAST-MODIFIED:20250512T153933Z
UID:406-1747220400-1747224000@indivisiblerapidcity.org
SUMMARY:Save Our Precious Resources Rally
DESCRIPTION:Our forests\, water\, and indigenous sacred land are under attack. The Trump administration wants to sell them off to the highest bidder. Join us May 14 at City Hall to have our voices heard \nhttps://www.kotatv.com/2025/05/03/local-organizations-concerned-with-proposed-mining-projects-several-sacred-sites/
URL:https://indivisiblerapidcity.org/event/save-our-precious-resources-rally/
LOCATION:SD
END:VEVENT
BEGIN:VEVENT
DTSTART;TZID=America/Denver:20250507T110000
DTEND;TZID=America/Denver:20250507T120000
DTSTAMP:20260420T042455
CREATED:20250505T160720Z
LAST-MODIFIED:20250505T162909Z
UID:383-1746615600-1746619200@indivisiblerapidcity.org
SUMMARY:JUSTICE FOR CRICKET!! Fundraiser and Protest
DESCRIPTION:
URL:https://indivisiblerapidcity.org/event/justice-for-cricket-fundraiser-and-protest/
LOCATION:SD
END:VEVENT
BEGIN:VEVENT
DTSTART;TZID=America/Denver:20250503T130000
DTEND;TZID=America/Denver:20250503T143000
DTSTAMP:20260420T042455
CREATED:20250429T172513Z
LAST-MODIFIED:20250429T172513Z
UID:379-1746277200-1746282600@indivisiblerapidcity.org
SUMMARY:IMPEACH\, CONVICT\, REMOVE Rally
DESCRIPTION:Visit Rapid City is hosting an event at the Elks Theater for the unveiling on the newest City of Presidents statue\, Trump. Yes\, they are putting up a statue of the Felon-in-Chief. \nWe will be meeting at City Hall and walking together to Main Street Square. We expect counter-protestors\, so PLEASE\, we must be on our best\, peaceful behavior. \nhttps://www.visitrapidcity.com/event/the-city-of-presidents-unveils-donald-j-trump/4513/ \n R
URL:https://indivisiblerapidcity.org/event/impeach-convict-remove-rally/
LOCATION:City Hall\, 300 6th St\, Rapid City\, SD\, 57701\, United States
END:VEVENT
END:VCALENDAR