BEGIN:VCALENDAR
VERSION:2.0
PRODID:-//Indivisible Rapid City - ECPv6.15.20//NONSGML v1.0//EN
CALSCALE:GREGORIAN
METHOD:PUBLISH
X-WR-CALNAME:Indivisible Rapid City
X-ORIGINAL-URL:https://indivisiblerapidcity.org
X-WR-CALDESC:Events for Indivisible Rapid City
REFRESH-INTERVAL;VALUE=DURATION:PT1H
X-Robots-Tag:noindex
X-PUBLISHED-TTL:PT1H
BEGIN:VTIMEZONE
TZID:America/Denver
BEGIN:DAYLIGHT
TZOFFSETFROM:-0700
TZOFFSETTO:-0600
TZNAME:MDT
DTSTART:20240310T090000
END:DAYLIGHT
BEGIN:STANDARD
TZOFFSETFROM:-0600
TZOFFSETTO:-0700
TZNAME:MST
DTSTART:20241103T080000
END:STANDARD
BEGIN:DAYLIGHT
TZOFFSETFROM:-0700
TZOFFSETTO:-0600
TZNAME:MDT
DTSTART:20250309T090000
END:DAYLIGHT
BEGIN:STANDARD
TZOFFSETFROM:-0600
TZOFFSETTO:-0700
TZNAME:MST
DTSTART:20251102T080000
END:STANDARD
BEGIN:DAYLIGHT
TZOFFSETFROM:-0700
TZOFFSETTO:-0600
TZNAME:MDT
DTSTART:20260308T090000
END:DAYLIGHT
BEGIN:STANDARD
TZOFFSETFROM:-0600
TZOFFSETTO:-0700
TZNAME:MST
DTSTART:20261101T080000
END:STANDARD
END:VTIMEZONE
BEGIN:VEVENT
DTSTART;TZID=America/Denver:20250308T023000
DTEND;TZID=America/Denver:20250308T090000
DTSTAMP:20260420T100837
CREATED:20250305T075545Z
LAST-MODIFIED:20250305T075545Z
UID:88-1741401000-1741424400@indivisiblerapidcity.org
SUMMARY:International Women's Day EXPO Booth
DESCRIPTION:We are looking at getting a booth at the international women’s Day EXPO. We will need volunteers to take time slots to sit and hand out information on IDRC (Indivisible Rapid City). Please check in on Discord for more information. Information will be added here as it becomes available. \n 
URL:https://indivisiblerapidcity.org/event/international-womens-day-expo-booth/
LOCATION:Dahl’s Art Center\, 713 7th St\, Rapid City\, SD\, 57701\, United States
END:VEVENT
END:VCALENDAR